BEGIN:VCALENDAR
VERSION:2.0
PRODID:-//RIGHTHERE//CALENDARIZE IT V3.2//EN
BEGIN:VTIMEZONE
TZID:Europe/Zagreb
BEGIN:STANDARD
DTSTART:20251026T010000
TZOFFSETFROM:+0200
TZOFFSETTO:+0100
TZNAME:CET
END:STANDARD
BEGIN:DAYLIGHT
DTSTART:20260329T010000
TZOFFSETFROM:+0100
TZOFFSETTO:+0200
TZNAME:CEST
END:DAYLIGHT
BEGIN:STANDARD
DTSTART:20261025T010000
TZOFFSETFROM:+0200
TZOFFSETTO:+0100
TZNAME:CET
END:STANDARD
END:VTIMEZONE
BEGIN:VEVENT
UID:4761-events@ogs-ivanazajca.hr
DTSTART;VALUE=DATE:20220205
DTEND;VALUE=DATE:20220205
DTSTAMP;TZID=Europe/Zagreb:20211215T084910
SUMMARY:Predavanje ‘Tragovima glazbenih velikana’
URL:https://ogs-ivanazajca.hr/dogadjaj_/predavanje-tragovima-glazbenih-veli
 kana/
ORGANIZER;CN=OGŠ Ivana Zajca:MAILTO:info@ogs-ivanazajca.hr
LOCATION:Ilica 227\, Zagreb
END:VEVENT
END:VCALENDAR