BEGIN:VCALENDAR
VERSION:2.0
PRODID:-//RIGHTHERE//CALENDARIZE IT V3.2//EN
BEGIN:VTIMEZONE
TZID:Europe/Zagreb
BEGIN:STANDARD
DTSTART:20251026T010000
TZOFFSETFROM:+0200
TZOFFSETTO:+0100
TZNAME:CET
END:STANDARD
BEGIN:DAYLIGHT
DTSTART:20260329T010000
TZOFFSETFROM:+0100
TZOFFSETTO:+0200
TZNAME:CEST
END:DAYLIGHT
BEGIN:STANDARD
DTSTART:20261025T010000
TZOFFSETFROM:+0200
TZOFFSETTO:+0100
TZNAME:CET
END:STANDARD
END:VTIMEZONE
BEGIN:VEVENT
UID:6252-events@ogs-ivanazajca.hr
DTSTART;VALUE=DATE:20240628
DTEND;VALUE=DATE:20240702
DTSTAMP;TZID=Europe/Zagreb:20240617T160827
SUMMARY:Upisi u više razrede\, elektronskim putem
URL:https://ogs-ivanazajca.hr/dogadjaj_/upisi-u-vise-razrede-elektronskim-p
 utem/
ORGANIZER;CN=OGŠ Ivana Zajca:MAILTO:info@ogs-ivanazajca.hr
LOCATION:Ilica 227\, Zagreb
END:VEVENT
END:VCALENDAR